BEGIN:VCALENDAR
VERSION:2.0
PRODID:https://www.kufer.de/kuferweb / DE
METHOD:PUBLISH
CALSCALE:GREGORIAN
X-WR-TIMEZONE:Europe/Berlin
BEGIN:VTIMEZONE
TZID:Europe/Berlin
X-LIC-LOCATION:Europe/Berlin
BEGIN:DAYLIGHT
TZOFFSETFROM:+0100
TZOFFSETTO:+0200
TZNAME:CEST
DTSTART:19700329T020000
RRULE:FREQ=YEARLY;INTERVAL=1;BYDAY=-1SU;BYMONTH=3
END:DAYLIGHT
BEGIN:STANDARD
TZOFFSETFROM:+0200
TZOFFSETTO:+0100
TZNAME:CET
DTSTART:19701025T030000
RRULE:FREQ=YEARLY;INTERVAL=1;BYDAY=-1SU;BYMONTH=10
END:STANDARD
END:VTIMEZONE
BEGIN:VEVENT
DTSTAMP:20260422T133345
DTSTART;TZID=Europe/Berlin:20260919T100000
DTEND;TZID=Europe/Berlin:20260919T130000
UID:D8554G-20260919T100000@VHSGELDERLAND
SUMMARY:Tastschreiben in 3 Terminen (D8554G) 
LOCATION:Volkshochschule, Kapuzinerstr. 34, Geldern, Raum 205, Kapuzinerstr. 34, 47608 Geldern
END:VEVENT
BEGIN:VEVENT
DTSTAMP:20260422T133345
DTSTART;TZID=Europe/Berlin:20260925T170000
DTEND;TZID=Europe/Berlin:20260925T183000
UID:D8554G-20260925T170000@VHSGELDERLAND
SUMMARY:Tastschreiben in 3 Terminen (D8554G) 
LOCATION:Volkshochschule, Kapuzinerstr. 34, Geldern, Raum 205, Kapuzinerstr. 34, 47608 Geldern
END:VEVENT
BEGIN:VEVENT
DTSTAMP:20260422T133345
DTSTART;TZID=Europe/Berlin:20260926T100000
DTEND;TZID=Europe/Berlin:20260926T113000
UID:D8554G-20260926T100000@VHSGELDERLAND
SUMMARY:Tastschreiben in 3 Terminen (D8554G) 
LOCATION:Volkshochschule, Kapuzinerstr. 34, Geldern, Raum 205, Kapuzinerstr. 34, 47608 Geldern
END:VEVENT
END:VCALENDAR